BEGIN:VCALENDAR
VERSION:2.0
PRODID:-//Miss Porter’s School - ECPv6.15.17.1//NONSGML v1.0//EN
CALSCALE:GREGORIAN
METHOD:PUBLISH
X-WR-CALNAME:Miss Porter’s School
X-ORIGINAL-URL:https://www.porters.org
X-WR-CALDESC:Events for Miss Porter’s School
REFRESH-INTERVAL;VALUE=DURATION:PT1H
X-Robots-Tag:noindex
X-PUBLISHED-TTL:PT1H
BEGIN:VTIMEZONE
TZID:America/New_York
BEGIN:DAYLIGHT
TZOFFSETFROM:-0500
TZOFFSETTO:-0400
TZNAME:EDT
DTSTART:20230312T070000
END:DAYLIGHT
BEGIN:STANDARD
TZOFFSETFROM:-0400
TZOFFSETTO:-0500
TZNAME:EST
DTSTART:20231105T060000
END:STANDARD
BEGIN:DAYLIGHT
TZOFFSETFROM:-0500
TZOFFSETTO:-0400
TZNAME:EDT
DTSTART:20240310T070000
END:DAYLIGHT
BEGIN:STANDARD
TZOFFSETFROM:-0400
TZOFFSETTO:-0500
TZNAME:EST
DTSTART:20241103T060000
END:STANDARD
BEGIN:DAYLIGHT
TZOFFSETFROM:-0500
TZOFFSETTO:-0400
TZNAME:EDT
DTSTART:20250309T070000
END:DAYLIGHT
BEGIN:STANDARD
TZOFFSETFROM:-0400
TZOFFSETTO:-0500
TZNAME:EST
DTSTART:20251102T060000
END:STANDARD
BEGIN:DAYLIGHT
TZOFFSETFROM:-0500
TZOFFSETTO:-0400
TZNAME:EDT
DTSTART:20260308T070000
END:DAYLIGHT
BEGIN:STANDARD
TZOFFSETFROM:-0400
TZOFFSETTO:-0500
TZNAME:EST
DTSTART:20261101T060000
END:STANDARD
END:VTIMEZONE
BEGIN:VTIMEZONE
TZID:America/Los_Angeles
BEGIN:DAYLIGHT
TZOFFSETFROM:-0800
TZOFFSETTO:-0700
TZNAME:PDT
DTSTART:20230312T100000
END:DAYLIGHT
BEGIN:STANDARD
TZOFFSETFROM:-0700
TZOFFSETTO:-0800
TZNAME:PST
DTSTART:20231105T090000
END:STANDARD
BEGIN:DAYLIGHT
TZOFFSETFROM:-0800
TZOFFSETTO:-0700
TZNAME:PDT
DTSTART:20240310T100000
END:DAYLIGHT
BEGIN:STANDARD
TZOFFSETFROM:-0700
TZOFFSETTO:-0800
TZNAME:PST
DTSTART:20241103T090000
END:STANDARD
BEGIN:DAYLIGHT
TZOFFSETFROM:-0800
TZOFFSETTO:-0700
TZNAME:PDT
DTSTART:20250309T100000
END:DAYLIGHT
BEGIN:STANDARD
TZOFFSETFROM:-0700
TZOFFSETTO:-0800
TZNAME:PST
DTSTART:20251102T090000
END:STANDARD
END:VTIMEZONE
BEGIN:VEVENT
DTSTART;TZID=America/New_York:20250530T123000
DTEND;TZID=America/New_York:20250530T133000
DTSTAMP:20260423T080154
CREATED:20250507T153118Z
LAST-MODIFIED:20250512T134044Z
UID:32346-1748608200-1748611800@www.porters.org
SUMMARY:Young Ancients Post-Graduation Reception
DESCRIPTION:Please join your fellow Young Ancients from the classes of 2021-2024 for a post-Graduation Reception at the Head of School’s House. \nIf you are making plans to come to campus and share in the joy of graduations\, perhaps that of your New Girl\, a former teammate\, or just a friend\, we hope you will make plans to come together as Young Ancients for a light reception after the graduation festivities. This event is casual\, so feel free to walk on over to Lamphere House after the Fountain Tradition. \nRegister and let us know you are coming so that we may count you in!
URL:https://www.porters.org/event/young-ancients-post-graduation-reception/
CATEGORIES:Ancients
END:VEVENT
BEGIN:VEVENT
DTSTART;TZID=America/New_York:20250513T190000
DTEND;TZID=America/New_York:20250513T190000
DTSTAMP:20260423T080154
CREATED:20250418T132825Z
LAST-MODIFIED:20250418T132825Z
UID:32216-1747162800-1747162800@www.porters.org
SUMMARY:The First 100 Days: Ancient Perspectives on Recent White House Policies
DESCRIPTION:A great deal of policy change has occurred on the national executive level in recent months. Join us for a webinar discussion by a panel of Ancient experts\, working in fields affected by these changes\, on the consequences and implications of the first 100 days of the new administration in the White House. This event is co-hosted by the Alumnae and Development Office and the Alumnae Board’s Diversity\, Equity\, Inclusion\, and Belonging Committee. \nModerator: \n\n\n\n\nPam McKee ’82 serves as senior director of foundation engagement at the National Women’s Law Center\, having previously worked as the development director for Abortion Forward (formerly NARAL Pro-Choice Ohio). An historian of African art\, she has taught at several Ohio colleges and universities\, and worked in nonprofit development in the arts\, social services\, and educational sectors. She currently resides in Washington\, D.C. and Rupert\, Vermont.\n\n\n\n  \nPanelists: \n\n\n\n\nGaylynn Burroughs ’95\, P’27 is vice president for education and workplace justice at the National Women’s Law Center (NWLC) where she oversees NWLC’s advocacy\, policy\, and litigation efforts to protect and advance the rights of women and girls at work and at school. Gaylynn previously led the employment task force and economic security team at the Leadership Conference on Civil and Human Rights and was policy director for the Feminist Majority and Feminist Majority Foundation. She received her Juris Doctor and Master of Laws from the New York University School of Law and her Bachelor of Arts from Yale University. \n\n\n\n Ariane de Vogue ’84 spent 30 years as a journalist\, first at ABC News and most recently as a Supreme Court reporter for CNN. She studied all aspects of the judiciary including issues surrounding voting rights\, campaign finance\, gay rights\, affirmative action and abortion. She covered the nomination process of countless lower court judges as well as eight of nine current sitting justices. She and her husband\, David\, have three children and reside in Washington DC.\n\n\n\nJuliana Garcia-Uribe ’99\, P’26 attended the University of Chicago where she graduated with a Bachelor of Arts in history. During college\, she participated in the Summer Links program through the University Community Service Center\, and worked at a family resource center in Pilsen\, working closely with immigrant families in Chicago. Participating in Summer Links was a transformative experience.\n\nFollowing college\, Juliana attended the Le Cordon Bleu School Paris; and obtained the Le Grand Diplôme® de Cuisine and Pâtisserie. She worked in various high-end hotel restaurants for several years before pivoting to attend law school at DePaul University in Chicago.\n\nJuliana currently works as an immigration attorney in Hartford\, Connecticut\, handling all kinds of immigration cases\, from family\, humanitarian\, employment-based petitions\, to representing clients in immigration court. Juliana lives in Hartford with her husband\, two daughters and son\, and two dogs. She is actively engaged in her neighborhood.\n\n\n\n  \n  \n\n \n 
URL:https://www.porters.org/event/the-first-100-days-ancient-perspectives-on-recent-white-house-policies/
CATEGORIES:Ancients
END:VEVENT
BEGIN:VEVENT
DTSTART;TZID=America/New_York:20250508T190000
DTEND;TZID=America/New_York:20250508T190000
DTSTAMP:20260423T080154
CREATED:20250417T200101Z
LAST-MODIFIED:20250417T200707Z
UID:32201-1746730800-1746730800@www.porters.org
SUMMARY:The Well-Balanced Porter’s Student
DESCRIPTION:Last year\, students at Miss Porter’s School participated in the Challenge Success–Stanford Survey of School Experiences\, which offered a window into their experience of school. In this virtual session\, we’ll review the key findings from the survey and consider the implications for our community. \nWe’ll also explore the impact of broader trends in education on our students’ lives – from pressures around homework to grades and college admissions – and consider the deliberate steps Porter’s is taking to ensure that our students are not only prepared but healthy and equipped to navigate the challenges facing adolescents today. \nYou’ll leave with practical\, research-based tips for how you can support balance at home and partner with the school in creating a healthy\, meaningful educational journey for your child. 
URL:https://www.porters.org/event/the-well-balanced-porters-student/
CATEGORIES:All School
END:VEVENT
BEGIN:VEVENT
DTSTART;VALUE=DATE:20250430
DTEND;VALUE=DATE:20250501
DTSTAMP:20260423T080154
CREATED:20250319T182414Z
LAST-MODIFIED:20250319T182414Z
UID:31685-1745971200-1746057599@www.porters.org
SUMMARY:Grandparents and Grandfriends Day
DESCRIPTION:Registration for Grandparents and Grandfriends day is open! Please fill out your information below to register for the event. More information about Grandparents and Grandfriends Day may be found by visiting this page. We look forward to seeing you! \n 
URL:https://www.porters.org/event/grandparents-and-grandfriends-2025/
CATEGORIES:All School
END:VEVENT
BEGIN:VEVENT
DTSTART;TZID=America/New_York:20250326T193000
DTEND;TZID=America/New_York:20250326T203000
DTSTAMP:20260423T080154
CREATED:20250303T170749Z
LAST-MODIFIED:20250319T190101Z
UID:31499-1743017400-1743021000@www.porters.org
SUMMARY:Virtual Men of Porter's Panel
DESCRIPTION:Join us for our next virtual Men of Porter’s panel moderated by Chief Financial and Operating Officer Michael Bergin P’19. Panelists will include current trustees Mishone Donelson P’23 and Matthew Sharp P’24\, current parent and PLC member Kenneth Smith P’26\, and Mathematics Teacher Ian Rumsey. \nTopics for the discussion will include: \n• Why an all girls school\, and why now?\n• How can men be championing girls and women here in Farmington and around the world?\n• How does Miss Porter’s School prepare girls for the changing global environment? \nWe look forward to welcoming the fathers of our newly-admitted students to this event. \n 
URL:https://www.porters.org/event/virtual-men-of-porters-panel/
CATEGORIES:All School
END:VEVENT
BEGIN:VEVENT
DTSTART;TZID=America/New_York:20250224T200000
DTEND;TZID=America/New_York:20250224T200000
DTSTAMP:20260423T080154
CREATED:20250115T193122Z
LAST-MODIFIED:20250115T193209Z
UID:30721-1740427200-1740427200@www.porters.org
SUMMARY:Annual Academic Update
DESCRIPTION:We are excited to invite families of students in grades 9\, 10\, and 11 to our virtual annual Academic Update session on Monday\, February 24\, at 8:00 p.m. hosted by the Parent Leadership Committee. We will preview updates to the curriculum for the upcoming year and explain the course request process that begins in the spring. We value this opportunity to virtually engage with families about our academic program and answer questions.
URL:https://www.porters.org/event/annual-academic-update-2025/
CATEGORIES:All School
END:VEVENT
BEGIN:VEVENT
DTSTART;TZID=America/New_York:20250126T103000
DTEND;TZID=America/New_York:20250126T120000
DTSTAMP:20260423T080154
CREATED:20250107T192724Z
LAST-MODIFIED:20250108T192628Z
UID:30453-1737887400-1737892800@www.porters.org
SUMMARY:Ancients of Color Brunch - Washington D.C.
DESCRIPTION:D.C. area Ancients of Color are invited to join members of the Miss Porter’s School Board of Trustees for a brunch gathering at Hen Quarter Prime. Space is limited\, and registration is required by January 18\, 2025. \n 
URL:https://www.porters.org/event/ancients-of-color-brunch-washington-d-c/
LOCATION:Hen Quarter Prime\, 2121 First St SW\, Washington\, DC\, 20024\, United States
CATEGORIES:Ancients
END:VEVENT
BEGIN:VEVENT
DTSTART;TZID=America/New_York:20250124T080000
DTEND;TZID=America/New_York:20250124T093000
DTSTAMP:20260423T080154
CREATED:20250107T191546Z
LAST-MODIFIED:20250107T192251Z
UID:30444-1737705600-1737711000@www.porters.org
SUMMARY:Ancients of Color Breakfast - New York City
DESCRIPTION:NYC area Ancients of Color are invited to join Dr. Kate Windsor\, Head of School\, and members of the Miss Porter’s School Board of Trustees for a drop-in coffee and conversation gathering at 6 Columbus – Central Park Hotel. A light continental breakfast will be available. Please RSVP by January 18\, 2025.
URL:https://www.porters.org/event/ancients-of-color-breakfast-new-york-city/
LOCATION:Sixty Loft Space\, Six Columbus Hotel\, 308 W 58th St\, New York City\, NY\, 10019\, United States
CATEGORIES:Ancients
END:VEVENT
BEGIN:VEVENT
DTSTART;TZID=America/New_York:20250123T183000
DTEND;TZID=America/New_York:20250123T203000
DTSTAMP:20260423T080154
CREATED:20241205T210057Z
LAST-MODIFIED:20250110T221017Z
UID:30210-1737657000-1737664200@www.porters.org
SUMMARY:MPS Reception - New York City
DESCRIPTION:Please join us for a Miss Porter’s School reception hosted by the Board of Trustees.\nWith special thanks to the following partners for their generous support: \n\nOffit Capital\nEdgewood Management LLC\nClarkston Capital Partners\, LLC\nDavidson Kempner Capital Management\nFiduciary Trust International\nFlik Independent School Dining\nImpactive Capital\nIncome Research + Management\nSurgoCap Partners LP\nSpyglass Capital Management\, LLC\n\nSpace is limited and registration for this special event is required. \nWe will not be able to accommodate walk-ins. Please register by January 8\, 2025.
URL:https://www.porters.org/event/nyc-morgan/
LOCATION:The Morgan Library & Museum\, 225 Madison Ave\, New York\, NY\, 10016\, United States
CATEGORIES:Ancients
END:VEVENT
BEGIN:VEVENT
DTSTART;TZID=America/New_York:20250109T170000
DTEND;TZID=America/New_York:20250109T200000
DTSTAMP:20260423T080154
CREATED:20241122T214746Z
LAST-MODIFIED:20250107T193408Z
UID:30087-1736442000-1736452800@www.porters.org
SUMMARY:CANCELLED - Welcome Home Reception and Dinner
DESCRIPTION:  \nThis event has been cancelled. \nCome back to campus this January to connect with Ancients with whom you lived and laughed in Farmington\, catch up with your MPS faculty and advisors\, and share your experiences with MPS seniors getting ready to begin their college journeys! \nFestivities will begin in the Dr. Glenda Newell-Harris ’71 Student Center with dinner to follow.
URL:https://www.porters.org/event/welcome-home-reception-and-dinner/
CATEGORIES:Ancients
END:VEVENT
BEGIN:VEVENT
DTSTART;TZID=America/New_York:20241210T180000
DTEND;TZID=America/New_York:20241210T193000
DTSTAMP:20260423T080154
CREATED:20241009T205531Z
LAST-MODIFIED:20241009T205531Z
UID:29265-1733853600-1733859000@www.porters.org
SUMMARY:Winter Gathering
DESCRIPTION:We invite you to join us for a reception to celebrate winter at the home of our Head of School. Enjoy food\, drinks\, and music performed by our students. Festive attire is requested. \nRegister here.
URL:https://www.porters.org/event/winter-gathering-3/
CATEGORIES:Admissions
END:VEVENT
BEGIN:VEVENT
DTSTART;TZID=America/New_York:20241204T193000
DTEND;TZID=America/New_York:20241204T193000
DTSTAMP:20260423T080154
CREATED:20241106T194526Z
LAST-MODIFIED:20241106T194526Z
UID:29718-1733340600-1733340600@www.porters.org
SUMMARY:Talking AI with Students
DESCRIPTION:Join the Parent Leadership Committee (PLC) and Chief Academic Officer Tim Quinn for a virtual conversation with Eric Hudson\, expert on AI in Education.  \nThe rapid rise of generative artificial intelligence (AI) has introduced a powerful new tool in education and beyond. What do our students need to know and be able to do in an AI world? What does it mean to be a responsible\, ethical user of AI? How do we help our students make good decisions about AI in and out of school? This session will review the current state of generative AI\, what early research is telling us about student and educator use of AI\, and the potential and pitfalls of the technology. We’ll discuss how we should talk to students about AI in the context of both learning and wellness. \nZoom link to be provided after registration.
URL:https://www.porters.org/event/talking-ai-with-students/
CATEGORIES:All School
END:VEVENT
BEGIN:VEVENT
DTSTART;TZID=America/New_York:20241113T173000
DTEND;TZID=America/New_York:20241113T193000
DTSTAMP:20260423T080154
CREATED:20241010T182407Z
LAST-MODIFIED:20241010T182407Z
UID:29343-1731519000-1731526200@www.porters.org
SUMMARY:MPS Reception - Atlanta\, GA
DESCRIPTION: \nPlease join us for a Miss Porter’s School reception in Atlanta\, hosted by Shonda and Frank Heath P’18\,’20 at their home\, with remarks by Head of School Dr. Katherine G. Windsor. \nAddress to be shared via email once registered.
URL:https://www.porters.org/event/mps-reception-atlanta-ga/
CATEGORIES:Ancients
END:VEVENT
BEGIN:VEVENT
DTSTART;VALUE=DATE:20241111
DTEND;VALUE=DATE:20241112
DTSTAMP:20260423T080154
CREATED:20240621T145734Z
LAST-MODIFIED:20240621T145734Z
UID:27643-1731283200-1731369599@www.porters.org
SUMMARY:Porter's Preview: Open House
DESCRIPTION:We invite you to attend our Porter’s Preview: Fall Open House. You will hear from students\, faculty\, and administrators about the distinct education we provide. \nClick here to register.
URL:https://www.porters.org/event/porters-preview-open-house-nov-2024/
CATEGORIES:Admissions
END:VEVENT
BEGIN:VEVENT
DTSTART;TZID=America/New_York:20241023T183000
DTEND;TZID=America/New_York:20241023T203000
DTSTAMP:20260423T080154
CREATED:20240910T141140Z
LAST-MODIFIED:20241002T011050Z
UID:28492-1729708200-1729715400@www.porters.org
SUMMARY:MPS Reception - Boston\, MA
DESCRIPTION:Please Join Us for a Miss Porter’s School reception in Boston\, MA hosted by Linda Cabot ’76 with remarks by Head of School Dr. Katherine G. Windsor. \nThank you for your interest in attending the Miss Porter’s School event hosted by Linda Cabot ’76 at the Isabella Stewart Gardner Museum on October 23. \n\nWe have reached capacity for this event. If you would like to be placed on a waitlist\, please email kzywocinski@missporters.org
URL:https://www.porters.org/event/mps-reception-boston-ma/
LOCATION:Isabella Stewart Gardner Museum\, 25 Evans Way\, Boston\, MA\, 02115\, United States
CATEGORIES:Ancients
END:VEVENT
BEGIN:VEVENT
DTSTART;VALUE=DATE:20241018
DTEND;VALUE=DATE:20241020
DTSTAMP:20260423T080154
CREATED:20240913T210034Z
LAST-MODIFIED:20240913T164900Z
UID:28536-1729209600-1729382399@www.porters.org
SUMMARY:Family Weekend 2024
DESCRIPTION:We are excited to welcome families to Farmington from Friday\, October 18 – Saturday October 19 for Miss Porter’s School’s 2024 Family Weekend. Explore campus and get a feel for your student’s experience as you attend classes\, cheer them on at a sports game or celebrate an arts performance. \nRegister for Family weekend below or visit this page to learn more about the weekend’s activities. \nNOTE:  Registration for in-person and virtual conferences will open on October 2\, 2024. You must register for Family Weekend to register for in-person conferences.
URL:https://www.porters.org/event/family-weekend-2024/
CATEGORIES:All School
END:VEVENT
BEGIN:VEVENT
DTSTART;VALUE=DATE:20241014
DTEND;VALUE=DATE:20241015
DTSTAMP:20260423T080154
CREATED:20240621T145553Z
LAST-MODIFIED:20240621T145553Z
UID:27641-1728864000-1728950399@www.porters.org
SUMMARY:Porter's Preview: Open House
DESCRIPTION:We invite you to attend our Porter’s Preview: Fall Open House. You will hear from students\, faculty\, and administrators about the distinct education we provide. \nClick here to register.
URL:https://www.porters.org/event/porters-preview-open-house-oct-2024/
CATEGORIES:Admissions
END:VEVENT
BEGIN:VEVENT
DTSTART;VALUE=DATE:20240927
DTEND;VALUE=DATE:20240930
DTSTAMP:20260423T080154
CREATED:20231113T201125Z
LAST-MODIFIED:20250812T150346Z
UID:23088-1727395200-1727654399@www.porters.org
SUMMARY:Reunion Weekend
DESCRIPTION:  \n \nFarmington is calling you…\nReunion 2024 is taking place Friday\, September 27 – Sunday\, September 29 for classes ending in 4 and 9 (1949-2019).  \nRegister below and go to the Reunion Weekend webpage to learn more about the weekend!  \nRegistration is closed.
URL:https://www.porters.org/event/reunion-weekend/
CATEGORIES:Ancients
END:VEVENT
BEGIN:VEVENT
DTSTART;TZID=America/New_York:20240816T170000
DTEND;TZID=America/New_York:20240816T190000
DTSTAMP:20260423T080154
CREATED:20240702T181105Z
LAST-MODIFIED:20240702T181105Z
UID:27736-1723827600-1723834800@www.porters.org
SUMMARY:MPS Reception - Little Compton\, RI
DESCRIPTION:Ancients\, current and past parents\, and prospective families are invited to join us for a reception with Dr. Katherine G. Windsor\, hosted by Debbie ’81\, P’19\, ’22 and Bryan Haggerty P’19\, ’22\, and Mary ’78 and Charlie Truslow at the Haggerty’s home. \n 
URL:https://www.porters.org/event/mps-reception-little-compton-ri/
CATEGORIES:Ancients
END:VEVENT
BEGIN:VEVENT
DTSTART;TZID=America/New_York:20240815T120000
DTEND;TZID=America/New_York:20240815T140000
DTSTAMP:20260423T080154
CREATED:20240702T184646Z
LAST-MODIFIED:20240702T184646Z
UID:27734-1723723200-1723730400@www.porters.org
SUMMARY:MPS Lunch - Nantucket\, MA
DESCRIPTION:Ancients are invited to join us for lunch with Dr. Katherine G. Windsor\, hosted by Janet Bailey at her home. \n 
URL:https://www.porters.org/event/mps-lunch-nantucket-ma/
CATEGORIES:Ancients
END:VEVENT
BEGIN:VEVENT
DTSTART;TZID=America/New_York:20240814T160000
DTEND;TZID=America/New_York:20240814T180000
DTSTAMP:20260423T080154
CREATED:20240702T184722Z
LAST-MODIFIED:20240703T172554Z
UID:27732-1723651200-1723658400@www.porters.org
SUMMARY:MPS Reception - Martha's Vineyard
DESCRIPTION:Ancients and current families are invited to join us for a reception with Dr. Katherine G. Windsor\, hosted by Delaney Nwachukwu ’20\, Anthony Nwachukwu P’20\, Sydni Scott ’18\, and Kimberley J. Scott P’18. \n 
URL:https://www.porters.org/event/mps-reception-marthas-vineyard/
CATEGORIES:Ancients
END:VEVENT
BEGIN:VEVENT
DTSTART;TZID=America/New_York:20240812T160000
DTEND;TZID=America/New_York:20240812T180000
DTSTAMP:20260423T080154
CREATED:20240702T184749Z
LAST-MODIFIED:20240703T155851Z
UID:27725-1723478400-1723485600@www.porters.org
SUMMARY:MPS Reception - Mt. Desert\, ME
DESCRIPTION:  \n \nAncients are invited to join us for a reception with Dr. Katherine G. Windsor\, hosted by Wendy Willis Livingston ’75 at her home. \n 
URL:https://www.porters.org/event/mps-reception-mt-desert-me/
CATEGORIES:Ancients
END:VEVENT
BEGIN:VEVENT
DTSTART;TZID=America/New_York:20240709T170000
DTEND;TZID=America/New_York:20240709T190000
DTSTAMP:20260423T080154
CREATED:20240530T181544Z
LAST-MODIFIED:20240530T181544Z
UID:27343-1720544400-1720551600@www.porters.org
SUMMARY:MPS Reception - Kennebunkport\, ME
DESCRIPTION:  \nAncients and parents of current students are invited to join us for a reception with Dr. Katherine G. Windsor\, hosted by Suzanne Walker Buck ’89 and John S. Buck at their home. \n  \nRegister here:
URL:https://www.porters.org/event/mps-reception-kennebunkport-me/
CATEGORIES:Ancients
END:VEVENT
BEGIN:VEVENT
DTSTART;TZID=America/New_York:20240523T203000
DTEND;TZID=America/New_York:20240523T203000
DTSTAMP:20260423T080154
CREATED:20240318T135929Z
LAST-MODIFIED:20240318T135929Z
UID:25291-1716496200-1716496200@www.porters.org
SUMMARY:Ancient Book Club Discussion: "Lessons in Chemistry" by Bonnie Garmus
DESCRIPTION:Hosted by the Miss Porter’s School Alumnae Board Connections & Events Committee \nJoin your fellow Ancients for a discussion of the book “Lessons in Chemistry” by Bonnie Garmus. \n“Feminism is the catalyst that makes [this story] fizz like hydrochloric acid on limestone. . . . Beyond the entertaining subplots and witty dialogue is the hard truth that\, in 1961\, a smart\, ambitious woman had limited options. . . . To file Elizabeth Zott among the pink razors of the book world is to miss the sharpness of Garmus’s message. Lessons in Chemistry will make you wonder about all the real-life women born ahead of their time—women who were sidelined\, ignored and worse because they weren’t as resourceful\, determined and lucky as Elizabeth Zott. She’s a reminder of how far we’ve come\, but also how far we still have to go.” — Elisabeth Egan\, The New York Times Book Review \nLearn more about the novel here.  \n 
URL:https://www.porters.org/event/ancient-book-club-discussion-lessons-in-chemistry-by-bonnie-garmus/
CATEGORIES:Ancients
END:VEVENT
BEGIN:VEVENT
DTSTART;TZID=America/New_York:20240515T130000
DTEND;TZID=America/New_York:20240515T160000
DTSTAMP:20260423T080154
CREATED:20231128T152147Z
LAST-MODIFIED:20231128T152147Z
UID:23209-1715778000-1715788800@www.porters.org
SUMMARY:Porter's Preview: Spring Open House
DESCRIPTION:We invite you to attend our Porter’s Preview: Spring Open House. You will hear from students\, faculty\, and administrators about the distinct education we provide. \nRegister here.
URL:https://www.porters.org/event/porters-preview-spring-open-house/
CATEGORIES:Admissions
END:VEVENT
BEGIN:VEVENT
DTSTART;TZID=America/New_York:20240508T074500
DTEND;TZID=America/New_York:20240508T131500
DTSTAMP:20260423T080154
CREATED:20240404T193929Z
LAST-MODIFIED:20240404T194018Z
UID:25894-1715154300-1715174100@www.porters.org
SUMMARY:Grandparents and Grandfriends Day
DESCRIPTION:Registration for Grandparents and Grandfriends day on May 8\, 2024 is open! Please fill out your information below to register for the event. More information about Grandparents and Grandfriends Day may be found by visiting this page. We look forward to seeing you on May 8!
URL:https://www.porters.org/event/grandparents-and-grandfriends-day-2/
CATEGORIES:All School
END:VEVENT
BEGIN:VEVENT
DTSTART;TZID=America/New_York:20240425T203000
DTEND;TZID=America/New_York:20240425T203000
DTSTAMP:20260423T080154
CREATED:20240318T140923Z
LAST-MODIFIED:20240403T183622Z
UID:25295-1714077000-1714077000@www.porters.org
SUMMARY:Ancient Book Club Discussion: "Firekeeper's Daughter" by Angeline Boulley
DESCRIPTION:  \n \nHosted by the Miss Porter’s School Alumnae Board Connections & Events Committee. \nJoin your fellow Ancients for a discussion of the book “Firekeeper’s Daughter” by Angeline Boulley. \n“This fast-paced\, intricate thriller centers around the life of a young Native American woman from the Ojibwe tribe who goes undercover to infiltrate a drug ring that is proliferating in her community. A beautifully told story that includes new love\, high stakes mystery and the rituals of Native American culture.” From Reese’s Book Club Picks\, Spring YA ’21 \nLearn more about the novel here. \n 
URL:https://www.porters.org/event/ancient-book-club-discussion-firekeepers-daughter-by-angeline-boulley/
CATEGORIES:Ancients
END:VEVENT
BEGIN:VEVENT
DTSTART;TZID=America/New_York:20240410T190000
DTEND;TZID=America/New_York:20240410T190000
DTSTAMP:20260423T080154
CREATED:20240202T203407Z
LAST-MODIFIED:20240206T185054Z
UID:24470-1712775600-1712775600@www.porters.org
SUMMARY:Virtual Book Talk - "Never Enough"
DESCRIPTION:     \nJennifer Breheny Wallace\, author of “Never Enough: When Achievement Culture Becomes Toxic — and What We Can Do About It” will join Chief Enrollment and Student Affairs Officer Liz Schmitt in conversation about her book and its relevance to our students. This virtual Zoom event is hosted by the Parent Leadership Committee and is open to all current families and Ancients. \nAbout the Author: \nJennifer Wallace is an award-winning journalist and author of the New York Times bestselling book “Never Enough: When Achievement Pressure Becomes Toxic — and What We Can Do About It.” She is a contributor to The Wall Street Journal and The Washington Post and appears on national television to discuss her articles and relevant topics in the news. After graduating from Harvard College\, Wallace began her journalism career at CBS “60 Minutes\,” where she was part of a team that won The Robert F. Kennedy Awards for Excellence in Journalism. She is a Journalism Fellow at The Center for Parent and Teen Communication at the Children’s Hospital of Philadelphia. Jennifer serves on the board of the Coalition for the Homeless in New York City\, where she lives with her husband and their three children.
URL:https://www.porters.org/event/virtual-book-talk-never-enough/
CATEGORIES:All School,Ancients
END:VEVENT
BEGIN:VEVENT
DTSTART;VALUE=DATE:20240302
DTEND;VALUE=DATE:20240303
DTSTAMP:20260423T080154
CREATED:20231113T184506Z
LAST-MODIFIED:20240118T173735Z
UID:23083-1709337600-1709423999@www.porters.org
SUMMARY:Worldwide Sit-Down Dinner
DESCRIPTION:Save the Date!\nThe 6th Annual Worldwide Sit-Down Dinner will take place on March 2\, 2024. Details about Worldwide Sit-Down Dinner will be added to this webpage as they become available. \n\n\n\nWorldwide Sit-Down Dinner Guest Registration is now open! Guest registration closes on February 5\, 2024.
URL:https://www.porters.org/event/worldwide-sit-down-dinner-2024/
CATEGORIES:Ancients
END:VEVENT
BEGIN:VEVENT
DTSTART;TZID=America/Los_Angeles:20240301T110000
DTEND;TZID=America/Los_Angeles:20240301T190000
DTSTAMP:20260423T080154
CREATED:20240221T225629Z
LAST-MODIFIED:20240221T225629Z
UID:24803-1709290800-1709319600@www.porters.org
SUMMARY:Frieze Los Angeles International Contemporary Art Fair
DESCRIPTION:Director of Frieze Los Angeles and Frieze New York\, Christine Messineo ’97\, has generously gifted MPS tickets to the Frieze International Contemporary Art Fair in Los Angeles. \nRegister below and you will receive access to the fair between the hours of 11:00 a.m. and  7:00 p.m. Gather a group of MPS friends or come solo and wander at your leisure!  \nSanta Monica Airport\n3027 Airport Avenue\nSanta Monica\, 90405 \n 
URL:https://www.porters.org/event/frieze-los-angeles-international-contemporary-art-fair/
CATEGORIES:Ancients
END:VEVENT
END:VCALENDAR