BEGIN:VCALENDAR
VERSION:2.0
PRODID:-//Miss Porter’s School - ECPv6.15.17.1//NONSGML v1.0//EN
CALSCALE:GREGORIAN
METHOD:PUBLISH
X-ORIGINAL-URL:https://www.porters.org
X-WR-CALDESC:Events for Miss Porter’s School
REFRESH-INTERVAL;VALUE=DURATION:PT1H
X-Robots-Tag:noindex
X-PUBLISHED-TTL:PT1H
BEGIN:VTIMEZONE
TZID:America/New_York
BEGIN:DAYLIGHT
TZOFFSETFROM:-0500
TZOFFSETTO:-0400
TZNAME:EDT
DTSTART:20210314T070000
END:DAYLIGHT
BEGIN:STANDARD
TZOFFSETFROM:-0400
TZOFFSETTO:-0500
TZNAME:EST
DTSTART:20211107T060000
END:STANDARD
BEGIN:DAYLIGHT
TZOFFSETFROM:-0500
TZOFFSETTO:-0400
TZNAME:EDT
DTSTART:20220313T070000
END:DAYLIGHT
BEGIN:STANDARD
TZOFFSETFROM:-0400
TZOFFSETTO:-0500
TZNAME:EST
DTSTART:20221106T060000
END:STANDARD
BEGIN:DAYLIGHT
TZOFFSETFROM:-0500
TZOFFSETTO:-0400
TZNAME:EDT
DTSTART:20230312T070000
END:DAYLIGHT
BEGIN:STANDARD
TZOFFSETFROM:-0400
TZOFFSETTO:-0500
TZNAME:EST
DTSTART:20231105T060000
END:STANDARD
BEGIN:DAYLIGHT
TZOFFSETFROM:-0500
TZOFFSETTO:-0400
TZNAME:EDT
DTSTART:20240310T070000
END:DAYLIGHT
BEGIN:STANDARD
TZOFFSETFROM:-0400
TZOFFSETTO:-0500
TZNAME:EST
DTSTART:20241103T060000
END:STANDARD
END:VTIMEZONE
BEGIN:VTIMEZONE
TZID:America/New_York
BEGIN:DAYLIGHT
TZOFFSETFROM:-0500
TZOFFSETTO:-0400
TZNAME:EDT
DTSTART:20210314T070000
END:DAYLIGHT
BEGIN:STANDARD
TZOFFSETFROM:-0400
TZOFFSETTO:-0500
TZNAME:EST
DTSTART:20211107T060000
END:STANDARD
BEGIN:DAYLIGHT
TZOFFSETFROM:-0500
TZOFFSETTO:-0400
TZNAME:EDT
DTSTART:20220313T070000
END:DAYLIGHT
BEGIN:STANDARD
TZOFFSETFROM:-0400
TZOFFSETTO:-0500
TZNAME:EST
DTSTART:20221106T060000
END:STANDARD
BEGIN:DAYLIGHT
TZOFFSETFROM:-0500
TZOFFSETTO:-0400
TZNAME:EDT
DTSTART:20230312T070000
END:DAYLIGHT
BEGIN:STANDARD
TZOFFSETFROM:-0400
TZOFFSETTO:-0500
TZNAME:EST
DTSTART:20231105T060000
END:STANDARD
END:VTIMEZONE
BEGIN:VTIMEZONE
TZID:America/Los_Angeles
BEGIN:DAYLIGHT
TZOFFSETFROM:-0800
TZOFFSETTO:-0700
TZNAME:PDT
DTSTART:20220313T100000
END:DAYLIGHT
BEGIN:STANDARD
TZOFFSETFROM:-0700
TZOFFSETTO:-0800
TZNAME:PST
DTSTART:20221106T090000
END:STANDARD
BEGIN:DAYLIGHT
TZOFFSETFROM:-0800
TZOFFSETTO:-0700
TZNAME:PDT
DTSTART:20230312T100000
END:DAYLIGHT
BEGIN:STANDARD
TZOFFSETFROM:-0700
TZOFFSETTO:-0800
TZNAME:PST
DTSTART:20231105T090000
END:STANDARD
BEGIN:DAYLIGHT
TZOFFSETFROM:-0800
TZOFFSETTO:-0700
TZNAME:PDT
DTSTART:20240310T100000
END:DAYLIGHT
BEGIN:STANDARD
TZOFFSETFROM:-0700
TZOFFSETTO:-0800
TZNAME:PST
DTSTART:20241103T090000
END:STANDARD
END:VTIMEZONE
BEGIN:VTIMEZONE
TZID:America/Chicago
BEGIN:DAYLIGHT
TZOFFSETFROM:-0600
TZOFFSETTO:-0500
TZNAME:CDT
DTSTART:20220313T080000
END:DAYLIGHT
BEGIN:STANDARD
TZOFFSETFROM:-0500
TZOFFSETTO:-0600
TZNAME:CST
DTSTART:20221106T070000
END:STANDARD
BEGIN:DAYLIGHT
TZOFFSETFROM:-0600
TZOFFSETTO:-0500
TZNAME:CDT
DTSTART:20230312T080000
END:DAYLIGHT
BEGIN:STANDARD
TZOFFSETFROM:-0500
TZOFFSETTO:-0600
TZNAME:CST
DTSTART:20231105T070000
END:STANDARD
BEGIN:DAYLIGHT
TZOFFSETFROM:-0600
TZOFFSETTO:-0500
TZNAME:CDT
DTSTART:20240310T080000
END:DAYLIGHT
BEGIN:STANDARD
TZOFFSETFROM:-0500
TZOFFSETTO:-0600
TZNAME:CST
DTSTART:20241103T070000
END:STANDARD
END:VTIMEZONE
BEGIN:VEVENT
DTSTART;TZID=America/New_York:20221201T170000
DTEND;TZID=America/New_York:20221201T180000
DTSTAMP:20260421T044226
CREATED:20221104T041613Z
LAST-MODIFIED:20221104T041613Z
UID:19215-1669914000-1669917600@www.porters.org
SUMMARY:MPS Day of Service 2022: Virtual Event with Dr. Michael J. Jordan
DESCRIPTION:Join Dr. Michael J. Jordan\, decorated combat veteran\, former Officer in the U.S. Marine Corps Reserves\, and current executive at the American Red Cross\, as he discusses the history of the American Red Cross\, its services\, and the organization’s impact on our military\, veterans\, and their families. \nRegister for the event via Zoom here.
URL:https://www.porters.org/event/mps-day-of-service-2022-virtual-event-with-dr-michael-j-jordan/
CATEGORIES:Ancients
END:VEVENT
BEGIN:VEVENT
DTSTART;TZID=America/New_York:20221204T130000
DTEND;TZID=America/New_York:20221204T150000
DTSTAMP:20260421T044226
CREATED:20221104T043150Z
LAST-MODIFIED:20221104T043150Z
UID:19217-1670158800-1670166000@www.porters.org
SUMMARY:MPS Day of Service 2022: Norwich\, VT
DESCRIPTION:Holidays for Heroes Event in Norwich\, VT\nHolidays for Heroes are signed holiday cards and letters wishing the armed forces happy holidays. The holiday cards are made special by adding a small personalized message that reflects your genuine support and appreciation for heroes.  \nLoading…
URL:https://www.porters.org/event/mps-day-of-service-2022-norwich-vt/
CATEGORIES:Ancients
END:VEVENT
BEGIN:VEVENT
DTSTART;TZID=America/New_York:20221205T130000
DTEND;TZID=America/New_York:20221205T190000
DTSTAMP:20260421T044226
CREATED:20221104T043616Z
LAST-MODIFIED:20221104T043616Z
UID:19218-1670245200-1670266800@www.porters.org
SUMMARY:MPS Day of Service 2022: L.A. (Santa Monica)\, CA
DESCRIPTION:Blood Drive & Holidays for Heroes Event in L.A. (Santa Monica)\, CA\nHolidays for Heroes are signed holiday cards and letters wishing the armed forces happy holidays. The holiday cards are made special by adding a small personalized message that reflects your genuine support and appreciation for heroes.\nLoading…
URL:https://www.porters.org/event/mps-day-of-service-2022-l-a-santa-monica-ca/
CATEGORIES:Ancients
END:VEVENT
BEGIN:VEVENT
DTSTART;TZID=America/New_York:20221206T100000
DTEND;TZID=America/New_York:20221206T150000
DTSTAMP:20260421T044226
CREATED:20221104T043849Z
LAST-MODIFIED:20221104T043849Z
UID:19219-1670320800-1670338800@www.porters.org
SUMMARY:MPS Day of Service 2022: Chicago\, IL
DESCRIPTION:Blood Drive in Chicago\n \nLoading…
URL:https://www.porters.org/event/mps-day-of-service-2022-chicago-il/
CATEGORIES:Ancients
END:VEVENT
BEGIN:VEVENT
DTSTART;TZID=America/New_York:20221206T100000
DTEND;TZID=America/New_York:20221206T150000
DTSTAMP:20260421T044226
CREATED:20221104T044241Z
LAST-MODIFIED:20221104T044241Z
UID:19220-1670320800-1670338800@www.porters.org
SUMMARY:MPS Day of Service 2022: Washington\, D.C.
DESCRIPTION:Blood Drive in Washington\, D.C.\nLoading…
URL:https://www.porters.org/event/mps-day-of-service-2022-washington-d-c/
CATEGORIES:Ancients
END:VEVENT
BEGIN:VEVENT
DTSTART;TZID=America/New_York:20221206T180000
DTEND;TZID=America/New_York:20221206T200000
DTSTAMP:20260421T044226
CREATED:20221104T044450Z
LAST-MODIFIED:20221104T044450Z
UID:19221-1670349600-1670356800@www.porters.org
SUMMARY:MPS Day of Service 2022: Hartford\, CT
DESCRIPTION:Holidays for Heroes Event in Hartford\, CT\nHolidays for Heroes are signed holiday cards and letters wishing the armed forces happy holidays. The holiday cards are made special by adding a small personalized message that reflects your genuine support and appreciation for heroes.\nLoading…
URL:https://www.porters.org/event/mps-day-of-service-2022-hartford-ct/
CATEGORIES:Ancients
END:VEVENT
BEGIN:VEVENT
DTSTART;TZID=America/New_York:20221207T180000
DTEND;TZID=America/New_York:20221207T200000
DTSTAMP:20260421T044226
CREATED:20221104T042653Z
LAST-MODIFIED:20221104T042653Z
UID:19216-1670436000-1670443200@www.porters.org
SUMMARY:MPS Day of Service 2022: New Orleans
DESCRIPTION:Holidays for Heroes Event in New Orleans\, LA\nHolidays for Heroes are signed holiday cards and letters wishing the armed forces happy holidays. The holiday cards are made special by adding a small personalized message that reflects your genuine support and appreciation for heroes.  \n \nLoading…
URL:https://www.porters.org/event/mps-day-of-service-2022-new-orleans/
CATEGORIES:Ancients
END:VEVENT
BEGIN:VEVENT
DTSTART;TZID=America/New_York:20221208T083000
DTEND;TZID=America/New_York:20221208T131500
DTSTAMP:20260421T044226
CREATED:20220808T145306Z
LAST-MODIFIED:20220808T145306Z
UID:19209-1670488200-1670505300@www.porters.org
SUMMARY:Class Visit Day
DESCRIPTION:The Miss Porter’s School Office of Admission invites applicants for the 2023-2024 academic year to attend two classes\, an advising session and a lunch with a current student. Click here to register. \nPlease note: Our annual Winter Gathering event will take place from 6:30 – 8:00 p.m. ET. If you plan to attend\, please note that a separate registration is required.
URL:https://www.porters.org/event/class-visit-day/
CATEGORIES:Admissions
END:VEVENT
BEGIN:VEVENT
DTSTART;TZID=America/New_York:20221208T173000
DTEND;TZID=America/New_York:20221208T190000
DTSTAMP:20260421T044226
CREATED:20221104T044748Z
LAST-MODIFIED:20221104T044748Z
UID:19222-1670520600-1670526000@www.porters.org
SUMMARY:MPS Day of Service 2022: Boston\, MA
DESCRIPTION:Holidays for Heroes Event in Boston\, MA\nHolidays for Heroes are signed holiday cards and letters wishing the armed forces happy holidays. The holiday cards are made special by adding a small personalized message that reflects your genuine support and appreciation for heroes.\nLoading…
URL:https://www.porters.org/event/mps-day-of-service-2022-boston-ma/
CATEGORIES:Ancients
END:VEVENT
BEGIN:VEVENT
DTSTART;TZID=America/New_York:20221208T183000
DTEND;TZID=America/New_York:20221208T200000
DTSTAMP:20260421T044226
CREATED:20220621T140159Z
LAST-MODIFIED:20220621T140159Z
UID:19199-1670524200-1670529600@www.porters.org
SUMMARY:Winter Gathering
DESCRIPTION:Join members of the Office of Admission\, as well as current students and parents\, for a reception to celebrate winter. Enjoy music performed by our students. Food and drinks will be served. For more information and to register please click here.
URL:https://www.porters.org/event/winter-gathering/
LOCATION:Hill-Stead Museum\, 35 Mountain Road\, Farmington\, CT\, 06032\, United States
CATEGORIES:Admissions
END:VEVENT
BEGIN:VEVENT
DTSTART;TZID=America/New_York:20221208T203000
DTEND;TZID=America/New_York:20221208T203000
DTSTAMP:20260421T044226
CREATED:20221108T203508Z
LAST-MODIFIED:20221108T203508Z
UID:19225-1670531400-1670531400@www.porters.org
SUMMARY:Ancient Book Club Discussion: "Cloud Cuckoo Land" by Anthony Doerr
DESCRIPTION:Hosted by Anne Patterson ’78 and Callie Brzezinski ’16 \n“From the Pulitzer Prize–winning author of All the Light We Cannot See\, comes the instant New York Times bestseller that is a “wildly inventive\, a humane and uplifting book for adults that’s infused with the magic of childhood reading experiences” (The New York Times Book Review). \nAmong the most celebrated and beloved novels of recent times\, Cloud Cuckoo Land is a triumph of imagination and compassion\, a soaring story about children on the cusp of adulthood in worlds in peril\, who find resilience\, hope\, and a book.”  Read More \n 
URL:https://www.porters.org/event/ancient-book-club-discussion-cloud-cuckoo-land-by-anthony-doerr/
CATEGORIES:All School,Ancients
END:VEVENT
BEGIN:VEVENT
DTSTART;TZID=America/New_York:20221211T100000
DTEND;TZID=America/New_York:20221211T113000
DTSTAMP:20260421T044226
CREATED:20221104T045046Z
LAST-MODIFIED:20221104T045046Z
UID:19223-1670752800-1670758200@www.porters.org
SUMMARY:MPS Day of Service 2022: San Francisco\, CA
DESCRIPTION:Holidays for Heroes Event in San Francisco\, CA\nHolidays for Heroes are signed holiday cards and letters wishing the armed forces happy holidays. The holiday cards are made special by adding a small personalized message that reflects your genuine support and appreciation for heroes.\nLoading…
URL:https://www.porters.org/event/mps-day-of-service-2022-san-francisco-ca/
CATEGORIES:Ancients
END:VEVENT
BEGIN:VEVENT
DTSTART;TZID=America/New_York:20230111T200000
DTEND;TZID=America/New_York:20230111T200000
DTSTAMP:20260421T044226
CREATED:20221216T182921Z
LAST-MODIFIED:20221216T182921Z
UID:19227-1673467200-1673467200@www.porters.org
SUMMARY:How to Host a Worldwide Sit-Down Dinner... or brunch\, lunch\, or happy hour!
DESCRIPTION:  \nInterested in hosting a Worldwide Sit-Down Dinner (WWSDD) but unsure of what it entails or the different options you may have? Consider joining former WWSDD hosts on Wednesday\, January 11\, 2023 at 8:00 PM ET on Zoom for: \n“How to Host a Worldwide Sit-Down Dinner… or brunch\, lunch\, or happy hour!” \nThe Ancient panelists will give you insight into their past experiences and the unique ways in which they have hosted. \nRegister here.\nFind out more about Worldwide Sit-Down Dinner here.
URL:https://www.porters.org/event/how-to-host-wwsdd-2023/
CATEGORIES:Ancients
END:VEVENT
BEGIN:VEVENT
DTSTART;TZID=America/New_York:20230201T163000
DTEND;TZID=America/New_York:20230201T183000
DTSTAMP:20260421T044226
CREATED:20230118T195552Z
LAST-MODIFIED:20230118T195552Z
UID:19230-1675269000-1675276200@www.porters.org
SUMMARY:MPS Reception - Palm Beach Gardens\, FL
DESCRIPTION:Join us for a reception in Palm Beach Gardens\, FL with remarks from Dr. Katherine G. Windsor. RSVP by contacting Susan Walker by email or telephone at 860-409-3626.
URL:https://www.porters.org/event/mps-reception-palm-beach-gardens-fl/
CATEGORIES:Ancients
END:VEVENT
BEGIN:VEVENT
DTSTART;TZID=America/New_York:20230202T170000
DTEND;TZID=America/New_York:20230202T183000
DTSTAMP:20260421T044226
CREATED:20230118T195814Z
LAST-MODIFIED:20230118T195814Z
UID:19231-1675357200-1675362600@www.porters.org
SUMMARY:MPS Reception - Vero Beach\, FL
DESCRIPTION:Join us for a reception in Vero Beach\, FL with remarks from Dr. Katherine G. Windsor. RSVP by contacting Susan Walker by email or telephone at 860-409-3626.
URL:https://www.porters.org/event/mps-reception-vero-beach-fl/
CATEGORIES:Ancients
END:VEVENT
BEGIN:VEVENT
DTSTART;TZID=America/New_York:20230202T200000
DTEND;TZID=America/New_York:20230202T200000
DTSTAMP:20260421T044226
CREATED:20221214T145601Z
LAST-MODIFIED:20221214T145601Z
UID:19226-1675368000-1675368000@www.porters.org
SUMMARY:Office of Equity & Inclusion Session
DESCRIPTION:Join the Parent Leadership Committee on Thursday\, February 2 at 8 p.m. EST for a virtual parent engagement event focused on equity and inclusion at MPS. This will be an opportunity to get to know the members of the Office of Equity and Inclusion\, become more familiar with resources available for students\, and learn how Porter’s families can partner with school to enhance the work. Submit your questions in advance to equity@missporters.org. Register below! \n 
URL:https://www.porters.org/event/office-of-equity-inclusion-session/
CATEGORIES:All School
END:VEVENT
BEGIN:VEVENT
DTSTART;TZID=America/New_York:20230212T090000
DTEND;TZID=America/New_York:20230212T153000
DTSTAMP:20260421T044226
CREATED:20221107T151435Z
LAST-MODIFIED:20221107T151435Z
UID:19224-1676192400-1676215800@www.porters.org
SUMMARY:Random Hacks of Kindness\, Jr.\, Hosted by Porter’s Leads
DESCRIPTION:Participants will design\, prototype\, and code a smartphone app with Code.org’s App Lab software. They will also learn about the business of nonprofit organizations\, how to apply technology to pressing problems in communities\, and how to collaboratively brainstorm and implement a plan and prototype in a short period of time. \nRead more about this event on our website. \nCost: $50 / participant \nLocation: Riverview Lounge at Miss Porter’s School\, CT \nRegister for this event here.
URL:https://www.porters.org/event/random-hacks-of-kindness-jr-hosted-by-porters-leads/
CATEGORIES:Admissions
END:VEVENT
BEGIN:VEVENT
DTSTART;TZID=America/New_York:20230215T200000
DTEND;TZID=America/New_York:20230215T200000
DTSTAMP:20260421T044226
CREATED:20230118T191644Z
LAST-MODIFIED:20230118T191644Z
UID:19229-1676491200-1676491200@www.porters.org
SUMMARY:Virtual Annual Academic Update Session
DESCRIPTION:We are excited to invite families of students in grades 9\, 10\, and 11 to our annual Academic Update session on Wednesday\, February 15 at 8:00 pm. ET hosted by the Parent Leadership Committee. We will share information with families about the school’s vision for teaching and learning and assessment and feedback\, preview exciting updates to the curriculum for the following year\, and explain the course request process that will begin this spring. Although we will still be in a virtual space\, we value this opportunity to engage with families about our academic program and answer questions. Register below! \n 
URL:https://www.porters.org/event/virtual-annual-academic-update-session/
CATEGORIES:All School
END:VEVENT
BEGIN:VEVENT
DTSTART;VALUE=DATE:20230225
DTEND;VALUE=DATE:20230226
DTSTAMP:20260421T044226
CREATED:20221216T203223Z
LAST-MODIFIED:20221216T203223Z
UID:19228-1677283200-1677369599@www.porters.org
SUMMARY:Worldwide Sit-Down Dinner 2023
DESCRIPTION:On Saturday\, February 25\, 2023\, Ancients from all over the world will gather together for a global movement of community\, friendship and MPS connection. Everyone interested in attending or hosting needs to fill out the registration form below regardless of prior communications with school about participating in the event. \nWe encourage you to sign up even if you don’t feel confident there are Ancients in your area; you never know who has moved or is passing through town! In the case that there are no interested Ancients in your area or you are unable to attend in person we are also offering three different virtual Worldwide Sit-Down Dinners over different time zones. You may register for those in the form as well. \nVisit the WWSDD 2023 page for more details. \nLoading… \n 
URL:https://www.porters.org/event/worldwide-sit-down-dinner-2023/
CATEGORIES:Ancients
END:VEVENT
BEGIN:VEVENT
DTSTART;VALUE=DATE:20230225
DTEND;VALUE=DATE:20230226
DTSTAMP:20260421T044226
CREATED:20230118T200712Z
LAST-MODIFIED:20230118T200712Z
UID:19232-1677283200-1677369599@www.porters.org
SUMMARY:WWSDD in London with Dr. Windsor
DESCRIPTION:Join us for a reception in London\, England to celebrate Worldwide Sit-down Dinner and be joined by Dr. Katherine G. Windsor. Event is 6:00 p.m. to 7:30 p.m. GMT. \nRSVP by February 17 by contacting Susan Walker by email or telephone at 860-409-3626.
URL:https://www.porters.org/event/wwsdd-in-london-with-dr-windsor/
CATEGORIES:Ancients
END:VEVENT
BEGIN:VEVENT
DTSTART;TZID=America/New_York:20230309T193000
DTEND;TZID=America/New_York:20230309T210000
DTSTAMP:20260421T044226
CREATED:20230213T145231Z
LAST-MODIFIED:20230213T145231Z
UID:19233-1678390200-1678395600@www.porters.org
SUMMARY:Allyship and Inclusion in the Ancient Community
DESCRIPTION:This session will explore the concepts of allyship and inclusion in the alumni community and participants will participate in building a shared understanding of how they can contribute to these goals. The group will engage with the intersectional nature of identities and privileges and work to better understand their own positionality in the work of belonging. This will be a safe space to reflect on identity and better understand accountability. \nOptional Affinity spaces 9:00 – 9:30 p.m.\nRegister:
URL:https://www.porters.org/event/allyship-and-inclusion-in-the-ancient-community/
CATEGORIES:Ancients
END:VEVENT
BEGIN:VEVENT
DTSTART;TZID=America/New_York:20230323T203000
DTEND;TZID=America/New_York:20230323T203000
DTSTAMP:20260421T044226
CREATED:20230228T154558Z
LAST-MODIFIED:20230228T154558Z
UID:19238-1679603400-1679603400@www.porters.org
SUMMARY:Ancient Book Club Discussion of "Dear Selection Committee" by Melissa Studdard
DESCRIPTION:Hosted by Anne Patterson ’78 and Callie Brzezinski ’16 \nJoin your fellow Ancients and author Melissa Studdard and for a lively discussion about her book of poetry\, “Dear Selection Committee.” \n“Dear Selection Committee attests that although life can feel like a bumpy cab ride to interview for a job you feel uniquely unqualified for if you lay aside the anxieties of self just long enough to peer out the window\, you’ll see great beauty amidst the chaos.” – Jackleg Press \n“Melis­sa Stud­dard is already an accom­plished poet\, but her newest col­lec­tion—Dear Selec­tion Com­mit­tee—feels spe­cial. Framed as a job appli­ca­tion\, the book dis­rupts and active­ly fights against the ways that work has tak­en over people’s lives in recent years. Sur­pris­ing and defi­ant\, Studdard’s poet­ry feels espe­cial­ly poignant now\, as a reces­sion and infla­tion loom overhead.” – Megan Reynolds\, Jewish Book Council
URL:https://www.porters.org/event/ancient-book-club-discussion-of-dear-selection-committee-by-melissa-studdard/
END:VEVENT
BEGIN:VEVENT
DTSTART;TZID=America/New_York:20230413T193000
DTEND;TZID=America/New_York:20230413T210000
DTSTAMP:20260421T044226
CREATED:20230213T145522Z
LAST-MODIFIED:20230213T145522Z
UID:19234-1681414200-1681419600@www.porters.org
SUMMARY:Proactive Allyship
DESCRIPTION:In this session\, attendees will learn about the concept of proactive allyship and how it differs from reactive allyship. The session will provide attendees with strategies and tools for engaging in proactive allyship\, including setting goals\, creating action plans\, and addressing potential obstacles. Participants will engage in discussion about the impact of those who live at the intersections of oppression and how to best identify and address microaggressions and other daily forms of oppression. \nOptional Affinity spaces 9:00 – 9:30 p.m.\nRegister:
URL:https://www.porters.org/event/proactive-allyship/
CATEGORIES:Ancients
END:VEVENT
BEGIN:VEVENT
DTSTART;TZID=America/Los_Angeles:20230427T173000
DTEND;TZID=America/Los_Angeles:20230427T190000
DTSTAMP:20260421T044226
CREATED:20230216T155535Z
LAST-MODIFIED:20230216T155535Z
UID:19237-1682616600-1682622000@www.porters.org
SUMMARY:MPS Reception - Beverly Hills
DESCRIPTION:Ann and Michael Kibler P’26 invite you to a Miss Porter’s School reception at their home in Beverly Hills\, California with remarks by Head of School Dr. Katherine G. Windsor. \nAddress will be sent out closer to the day of event to those registered.
URL:https://www.porters.org/event/mps-reception-beverly-hills/
END:VEVENT
BEGIN:VEVENT
DTSTART;TZID=America/New_York:20230427T193000
DTEND;TZID=America/New_York:20230427T210000
DTSTAMP:20260421T044226
CREATED:20230213T145947Z
LAST-MODIFIED:20230213T145947Z
UID:19235-1682623800-1682629200@www.porters.org
SUMMARY:Closing the Intention-Behavior Gap
DESCRIPTION:This session will focus on the issue of the intention-behavior gap\, and explore ways to bridge the gap between good intentions and effective action. Attendees will engage with tools and strategies for holding themselves and each other accountable and staying engaged in the work of allyship and inclusion. Finally\, there will be discussion to generate strategies on self-care\, self-advocacy\, and maintaining personal well-being while actively contributing to social justice. \nOptional Affinity spaces 9:00 – 9:30 p.m.\nRegister:
URL:https://www.porters.org/event/closing-the-intention-behavior-gap/
CATEGORIES:Ancients
END:VEVENT
BEGIN:VEVENT
DTSTART;VALUE=DATE:20230503
DTEND;VALUE=DATE:20230504
DTSTAMP:20260421T044226
CREATED:20230315T183151Z
LAST-MODIFIED:20230315T183151Z
UID:19239-1683072000-1683158399@www.porters.org
SUMMARY:Grandparents and Grandfriends Day
DESCRIPTION:Registration for Grandparents and Grandfriends day on May 3\, 2023 is open! Please fill out your information below to register for the event. More information about Grandparents and Grandfriends Day may be found by visiting this page. We look forward to seeing you on May 3rd!
URL:https://www.porters.org/event/grandparents-and-grandfriends-day/
CATEGORIES:All School
END:VEVENT
BEGIN:VEVENT
DTSTART;TZID=America/Chicago:20230505T173000
DTEND;TZID=America/Chicago:20230505T190000
DTSTAMP:20260421T044226
CREATED:20230328T141918Z
LAST-MODIFIED:20230328T141918Z
UID:19240-1683307800-1683313200@www.porters.org
SUMMARY:MPS Reception - Chicago
DESCRIPTION:Please Join Us for a Miss Porter’s School Reception in Chicago\, Illinois at the Near North Side home of Christina Cox ’93 with remarks by Dr. Katherine G. Windsor Head of School. \nAddress information to be shared upon RSVP.
URL:https://www.porters.org/event/mps-reception-chicago/
END:VEVENT
BEGIN:VEVENT
DTSTART;TZID=America/New_York:20230511T193000
DTEND;TZID=America/New_York:20230511T210000
DTSTAMP:20260421T044226
CREATED:20230213T150148Z
LAST-MODIFIED:20230213T150148Z
UID:19236-1683833400-1683838800@www.porters.org
SUMMARY:Coalition Building and Community Care
DESCRIPTION:In the final session\, attendees will learn about the importance of coalition building and community care in creating lasting change. The session will provide attendees with tools and strategies for building an effective coalition of the Ancient community and supporting marginalized groups of Ancients\, including through direct action\, advocacy\, and coalition-building. Participants will be asked to reflect on their own circles of solidarity and cooperation and to challenge themselves to widen those circles to include all Ancients. \nOptional Affinity spaces 9:00 – 9:30 p.m.\nRegister:
URL:https://www.porters.org/event/coalition-building-and-community-care/
CATEGORIES:Ancients
END:VEVENT
BEGIN:VEVENT
DTSTART;TZID=America/New_York:20230517T130000
DTEND;TZID=America/New_York:20230517T160000
DTSTAMP:20260421T044226
CREATED:20230417T162354Z
LAST-MODIFIED:20230417T162354Z
UID:19241-1684328400-1684339200@www.porters.org
SUMMARY:Spring Open House
DESCRIPTION:Students and families looking to apply for the 2024-2025 academic year and beyond are invited to our Spring Open House. Enjoy a tour of campus\, hear from students and faculty\, and learn about the admission process. \nPlease register here.
URL:https://www.porters.org/event/spring-open-house-2/
CATEGORIES:Admissions
END:VEVENT
BEGIN:VEVENT
DTSTART;TZID=America/New_York:20230519T110000
DTEND;TZID=America/New_York:20230519T190000
DTSTAMP:20260421T044226
CREATED:20230419T153634Z
LAST-MODIFIED:20230419T153634Z
UID:19242-1684494000-1684522800@www.porters.org
SUMMARY:MPS at Frieze New York
DESCRIPTION:  \nDirector of Frieze New York Christine Messineo ’97 has generously donated tickets for MPS community members to enjoy the Frieze International Contemporary Art Fair. Your RSVP through MPS will get you on the list for entry on Friday\, May 19\, during the fair hours. \nQuantity is limited – first come\, first served. \nVisit https://www.frieze.com/fairs/frieze-new-york for more information about Frieze. \n  \nRSVP:\n 
URL:https://www.porters.org/event/mps-at-frieze-new-york/
LOCATION:The Shed\, 545 West 30th Street\, New York City\, NY\, 10001\, United States
CATEGORIES:Ancients
END:VEVENT
END:VCALENDAR