BEGIN:VCALENDAR
VERSION:2.0
PRODID:-//Miss Porter’s School - ECPv6.15.17.1//NONSGML v1.0//EN
CALSCALE:GREGORIAN
METHOD:PUBLISH
X-WR-CALNAME:Miss Porter’s School
X-ORIGINAL-URL:https://www.porters.org
X-WR-CALDESC:Events for Miss Porter’s School
REFRESH-INTERVAL;VALUE=DURATION:PT1H
X-Robots-Tag:noindex
X-PUBLISHED-TTL:PT1H
BEGIN:VTIMEZONE
TZID:America/New_York
BEGIN:DAYLIGHT
TZOFFSETFROM:-0500
TZOFFSETTO:-0400
TZNAME:EDT
DTSTART:20200308T070000
END:DAYLIGHT
BEGIN:STANDARD
TZOFFSETFROM:-0400
TZOFFSETTO:-0500
TZNAME:EST
DTSTART:20201101T060000
END:STANDARD
BEGIN:DAYLIGHT
TZOFFSETFROM:-0500
TZOFFSETTO:-0400
TZNAME:EDT
DTSTART:20210314T070000
END:DAYLIGHT
BEGIN:STANDARD
TZOFFSETFROM:-0400
TZOFFSETTO:-0500
TZNAME:EST
DTSTART:20211107T060000
END:STANDARD
BEGIN:DAYLIGHT
TZOFFSETFROM:-0500
TZOFFSETTO:-0400
TZNAME:EDT
DTSTART:20220313T070000
END:DAYLIGHT
BEGIN:STANDARD
TZOFFSETFROM:-0400
TZOFFSETTO:-0500
TZNAME:EST
DTSTART:20221106T060000
END:STANDARD
END:VTIMEZONE
BEGIN:VEVENT
DTSTART;TZID=America/New_York:20210714T080000
DTEND;TZID=America/New_York:20210714T090000
DTSTAMP:20260424T052442
CREATED:20210427T190351Z
LAST-MODIFIED:20210427T190351Z
UID:19159-1626249600-1626253200@www.porters.org
SUMMARY:International Student & Family Session (Virtual)
DESCRIPTION:Connect with other international families\, led by Kat Simison\, Associate Director of Admission for International Recruitment. \nRegistration for this event is not required. All new students and families will receive an email 24 hours prior to this event with the Zoom link.
URL:https://www.porters.org/event/international-student-family-session/
CATEGORIES:New Student Information
END:VEVENT
BEGIN:VEVENT
DTSTART;TZID=America/New_York:20210714T170000
DTEND;TZID=America/New_York:20210714T190000
DTSTAMP:20260424T052442
CREATED:20210524T142206Z
LAST-MODIFIED:20210524T142206Z
UID:19171-1626282000-1626289200@www.porters.org
SUMMARY:Goodies at the Grist Mill (In-Person)
DESCRIPTION:Join us at the Admission Office for Goodies at the Gristmill! Registration for this event is required and is open to incoming students and their families. To register\, please RSVP to admission@missporters.org or 860-409-3530.
URL:https://www.porters.org/event/goodies-at-the-grist-mill-on-campus-2/
CATEGORIES:New Student Information
END:VEVENT
BEGIN:VEVENT
DTSTART;TZID=America/New_York:20210715T210000
DTEND;TZID=America/New_York:20210715T210000
DTSTAMP:20260424T052442
CREATED:20210518T162849Z
LAST-MODIFIED:20210518T162849Z
UID:19167-1626382800-1626382800@www.porters.org
SUMMARY:Ancient Book Club Discussion | "Human Acts" by Han Kang: Session 1
DESCRIPTION:“A ‘rare and astonishing’ (The Observer) portrait of political unrest and the universal struggle for justice.” \nSummary:\n“In the midst of a violent student uprising in South Korea\, a young boy named Dong-ho is shockingly killed. The story of this tragic episode unfolds in a sequence of interconnected chapters as the victims and the bereaved encounter suppression\, denial\, and the echoing agony of the massacre. \n An award-winning\, controversial bestseller\, Human Acts is a timeless\, pointillist portrait of an historic event with reverberations still being felt today\, by turns tracing the harsh reality of oppression and the resounding\, extraordinary poetry of humanity.” \n  \nREGISTER BELOW
URL:https://www.porters.org/event/ancient-book-club-discussion-human-acts-by-han-kang-session-1/
CATEGORIES:Ancients
END:VEVENT
BEGIN:VEVENT
DTSTART;TZID=America/New_York:20210721T193000
DTEND;TZID=America/New_York:20210721T203000
DTSTAMP:20260424T052442
CREATED:20210427T190351Z
LAST-MODIFIED:20210427T190351Z
UID:19160-1626895800-1626899400@www.porters.org
SUMMARY:New Girl Event (Students Only\, Virtual)
DESCRIPTION:Connect with other New Girls\, led by the Co-Heads of New Girls for the 2021-22 school year. \nRegistration for this event is not required. All new students and families will receive an email 24 hours prior to this event with the Zoom link.
URL:https://www.porters.org/event/new-girl-event-2/
CATEGORIES:New Student Information
END:VEVENT
BEGIN:VEVENT
DTSTART;TZID=America/New_York:20210722T190000
DTEND;TZID=America/New_York:20210722T190000
DTSTAMP:20260424T052442
CREATED:20210518T162826Z
LAST-MODIFIED:20210518T162826Z
UID:19168-1626980400-1626980400@www.porters.org
SUMMARY:Ancient Book Club Discussion | "Human Acts" by Han Kang: Session 2
DESCRIPTION:“A ‘rare and astonishing’ (The Observer) portrait of political unrest and the universal struggle for justice.” \nSummary:\n“In the midst of a violent student uprising in South Korea\, a young boy named Dong-ho is shockingly killed. The story of this tragic episode unfolds in a sequence of interconnected chapters as the victims and the bereaved encounter suppression\, denial\, and the echoing agony of the massacre. \n An award-winning\, controversial bestseller\, Human Acts is a timeless\, pointillist portrait of an historic event with reverberations still being felt today\, by turns tracing the harsh reality of oppression and the resounding\, extraordinary poetry of humanity.” \n  \nREGISTER BELOW
URL:https://www.porters.org/event/ancient-book-club-discussion-human-acts-by-han-kang-session-2/
CATEGORIES:Ancients
END:VEVENT
BEGIN:VEVENT
DTSTART;TZID=America/New_York:20210728T190000
DTEND;TZID=America/New_York:20210728T203000
DTSTAMP:20260424T052442
CREATED:20210427T190351Z
LAST-MODIFIED:20210427T190351Z
UID:19161-1627498800-1627504200@www.porters.org
SUMMARY:Health & Wellness Session (For Families\, Virtual)
DESCRIPTION:Learn more about our comprehensive approach to student health and wellness and the services offered from members of the health and counseling teams in the Colgate Wellness Center.\nRegistration for this event is not required. All new students and families will receive an email 24 hours prior to this event with the Zoom link.
URL:https://www.porters.org/event/health-wellness-session-for-families/
CATEGORIES:New Student Information
END:VEVENT
END:VCALENDAR