BEGIN:VCALENDAR
VERSION:2.0
PRODID:-//Miss Porter’s School - ECPv6.15.17.1//NONSGML v1.0//EN
CALSCALE:GREGORIAN
METHOD:PUBLISH
X-WR-CALNAME:Miss Porter’s School
X-ORIGINAL-URL:https://www.porters.org
X-WR-CALDESC:Events for Miss Porter’s School
REFRESH-INTERVAL;VALUE=DURATION:PT1H
X-Robots-Tag:noindex
X-PUBLISHED-TTL:PT1H
BEGIN:VTIMEZONE
TZID:America/Chicago
BEGIN:DAYLIGHT
TZOFFSETFROM:-0600
TZOFFSETTO:-0500
TZNAME:CDT
DTSTART:20220313T080000
END:DAYLIGHT
BEGIN:STANDARD
TZOFFSETFROM:-0500
TZOFFSETTO:-0600
TZNAME:CST
DTSTART:20221106T070000
END:STANDARD
BEGIN:DAYLIGHT
TZOFFSETFROM:-0600
TZOFFSETTO:-0500
TZNAME:CDT
DTSTART:20230312T080000
END:DAYLIGHT
BEGIN:STANDARD
TZOFFSETFROM:-0500
TZOFFSETTO:-0600
TZNAME:CST
DTSTART:20231105T070000
END:STANDARD
BEGIN:DAYLIGHT
TZOFFSETFROM:-0600
TZOFFSETTO:-0500
TZNAME:CDT
DTSTART:20240310T080000
END:DAYLIGHT
BEGIN:STANDARD
TZOFFSETFROM:-0500
TZOFFSETTO:-0600
TZNAME:CST
DTSTART:20241103T070000
END:STANDARD
END:VTIMEZONE
BEGIN:VTIMEZONE
TZID:America/New_York
BEGIN:DAYLIGHT
TZOFFSETFROM:-0500
TZOFFSETTO:-0400
TZNAME:EDT
DTSTART:20220313T070000
END:DAYLIGHT
BEGIN:STANDARD
TZOFFSETFROM:-0400
TZOFFSETTO:-0500
TZNAME:EST
DTSTART:20221106T060000
END:STANDARD
BEGIN:DAYLIGHT
TZOFFSETFROM:-0500
TZOFFSETTO:-0400
TZNAME:EDT
DTSTART:20230312T070000
END:DAYLIGHT
BEGIN:STANDARD
TZOFFSETFROM:-0400
TZOFFSETTO:-0500
TZNAME:EST
DTSTART:20231105T060000
END:STANDARD
BEGIN:DAYLIGHT
TZOFFSETFROM:-0500
TZOFFSETTO:-0400
TZNAME:EDT
DTSTART:20240310T070000
END:DAYLIGHT
BEGIN:STANDARD
TZOFFSETFROM:-0400
TZOFFSETTO:-0500
TZNAME:EST
DTSTART:20241103T060000
END:STANDARD
END:VTIMEZONE
BEGIN:VEVENT
DTSTART;TZID=America/Chicago:20230917T160000
DTEND;TZID=America/Chicago:20230917T180000
DTSTAMP:20260419T101250
CREATED:20230516T140619Z
LAST-MODIFIED:20230911T035637Z
UID:19244-1694966400-1694973600@www.porters.org
SUMMARY:MPS Reception - Dallas\, TX
DESCRIPTION:  \nPlease join us for a Miss Porter’s School reception in Dallas\, TX hosted by current parents\, Ray and Anjani Vasson P’24\, ’26 with remarks from Dr. Katherine G. Windsor. \nRegister Here:
URL:https://www.porters.org/event/mps-reception-dallas-tx/
LOCATION:Dallas\, TX\, Dallas\, TX\, United States
CATEGORIES:Ancients
END:VEVENT
BEGIN:VEVENT
DTSTART;TZID=America/New_York:20230921T203000
DTEND;TZID=America/New_York:20230921T203000
DTSTAMP:20260419T101250
CREATED:20230712T201427Z
LAST-MODIFIED:20230712T201427Z
UID:19253-1695328200-1695328200@www.porters.org
SUMMARY:Ancient Book Club Discussion: "Horse" by Geraldine Brooks
DESCRIPTION:Hosted by the Miss Porter’s School Alumnae Board Connections & Events Committee  \nJoin your fellow Ancients for a discussion of the award winning novel Horse by Geraldine Brooks \n“Based on the remarkable true story of the record-breaking thoroughbred Lexington\, Horse is a novel of art and science\, love and obsession\, and our unfinished reckoning with racism.” Read more. 
URL:https://www.porters.org/event/ancient-book-club-discussion-horse-by-geraldine-brooks/
CATEGORIES:Ancients
END:VEVENT
BEGIN:VEVENT
DTSTART;TZID=America/New_York:20230927T200000
DTEND;TZID=America/New_York:20230927T200000
DTSTAMP:20260419T101250
CREATED:20230911T163600Z
LAST-MODIFIED:20230911T164032Z
UID:21163-1695844800-1695844800@www.porters.org
SUMMARY:Developing a Balanced Approach to Cell Phone Use in the Boarding School Setting
DESCRIPTION:  \nParents are invited to join MPS Administrators for a virtual presentation and Q&A about the use of cell phones in a boarding school setting. \nRegister here:
URL:https://www.porters.org/event/developing-a-balanced-approach-to-cell-phone-use-in-the-boarding-school-setting/
CATEGORIES:All School
END:VEVENT
END:VCALENDAR