BEGIN:VCALENDAR
VERSION:2.0
PRODID:-//Miss Porter’s School - ECPv6.15.17.1//NONSGML v1.0//EN
CALSCALE:GREGORIAN
METHOD:PUBLISH
X-ORIGINAL-URL:https://www.porters.org
X-WR-CALDESC:Events for Miss Porter’s School
REFRESH-INTERVAL;VALUE=DURATION:PT1H
X-Robots-Tag:noindex
X-PUBLISHED-TTL:PT1H
BEGIN:VTIMEZONE
TZID:America/New_York
BEGIN:DAYLIGHT
TZOFFSETFROM:-0500
TZOFFSETTO:-0400
TZNAME:EDT
DTSTART:20240310T070000
END:DAYLIGHT
BEGIN:STANDARD
TZOFFSETFROM:-0400
TZOFFSETTO:-0500
TZNAME:EST
DTSTART:20241103T060000
END:STANDARD
BEGIN:DAYLIGHT
TZOFFSETFROM:-0500
TZOFFSETTO:-0400
TZNAME:EDT
DTSTART:20250309T070000
END:DAYLIGHT
BEGIN:STANDARD
TZOFFSETFROM:-0400
TZOFFSETTO:-0500
TZNAME:EST
DTSTART:20251102T060000
END:STANDARD
BEGIN:DAYLIGHT
TZOFFSETFROM:-0500
TZOFFSETTO:-0400
TZNAME:EDT
DTSTART:20260308T070000
END:DAYLIGHT
BEGIN:STANDARD
TZOFFSETFROM:-0400
TZOFFSETTO:-0500
TZNAME:EST
DTSTART:20261101T060000
END:STANDARD
END:VTIMEZONE
BEGIN:VEVENT
DTSTART;VALUE=DATE:20251003
DTEND;VALUE=DATE:20251006
DTSTAMP:20260421T095601
CREATED:20250714T140100Z
LAST-MODIFIED:20250714T175809Z
UID:33034-1759449600-1759708799@www.porters.org
SUMMARY:Reunion 2025
DESCRIPTION:Reunion 2025 is taking place Friday\, October 3 – Sunday\, October 5 for classes ending in 0 and 5 (1950-2020).  \nRegister below and visit the blog post to learn more about the weekend! \n 
URL:https://www.porters.org/event/reunion-2025/
CATEGORIES:Ancients
END:VEVENT
BEGIN:VEVENT
DTSTART;VALUE=DATE:20251024
DTEND;VALUE=DATE:20251026
DTSTAMP:20260421T095601
CREATED:20250922T143819Z
LAST-MODIFIED:20250922T143819Z
UID:34219-1761264000-1761436799@www.porters.org
SUMMARY:Family Weekend
DESCRIPTION:  \n \nWe are excited to welcome families to Farmington from Friday\, October 24 – Saturday\, October 25 for Miss Porter’s School’s 2025 Family Weekend. Explore campus and get a feel for your student’s experience as you attend classes\, cheer them on at a sports game or celebrate an arts performance. \nRegister for Family Weekend below or visit this page to learn more about the weekend’s activities. \nNOTE:  Registration for in-person and virtual conferences will open on October 8\, 2025. You must register for Family Weekend to register for in-person conferences. \n 
URL:https://www.porters.org/event/family-weekend-2025/
CATEGORIES:All School
END:VEVENT
BEGIN:VEVENT
DTSTART;TZID=America/New_York:20251028T193000
DTEND;TZID=America/New_York:20251028T193000
DTSTAMP:20260421T095601
CREATED:20250930T221618Z
LAST-MODIFIED:20250930T221618Z
UID:34384-1761679800-1761679800@www.porters.org
SUMMARY:Virtual Ancient Book Discussion - "Formidable: American Women and the Fight for Equality\, 1920-2020"
DESCRIPTION:Join historian\, author and former head of school at Madeira Elisabeth Griffith for a virtual conversation about her book\, “Formidable: American Women and the Fight for Equality\, 1920-2020.” \nThis conversation follows her appearance at Reunion Weekend where she participated in conversation and panel moderated by Head of School Dr. Katherine Windsor on women leading boldly in areas of policy\, advocacy and civic engagement (read more on this event here). \nAbout the book: \n“A keen and witty observer of American history and politics\, Griffith seamlessly weaves together diverse stories of women both familiar and unheralded\, and takes an unflinching look at the role of race\, class\, and religion.” – Rebecca Roberts\, author of The Suffragist Playbook: Your Guide to Changing the World.
URL:https://www.porters.org/event/virtual-ancient-book-discussion-formidable-american-women-and-the-fight-for-equality-1920-2020/
CATEGORIES:Ancients
END:VEVENT
END:VCALENDAR